BEGIN:VCALENDAR
VERSION:2.0
PRODID:-//Brezineves Events//EN
CALSCALE:GREGORIAN
BEGIN:VEVENT
UID:69ed58fd7b10c@brezineves.cz
DTSTAMP:20260426T021453
DTSTART:20250619T000000
DTEND:20260701T000000
SUMMARY:Závěrečný účet za rok 2024
DESCRIPTION:
LOCATION:
END:VEVENT
END:VCALENDAR
