BEGIN:VCALENDAR
VERSION:2.0
PRODID:-//Brezineves Events//EN
CALSCALE:GREGORIAN
BEGIN:VEVENT
UID:69ec22e9c8337@brezineves.cz
DTSTAMP:20260425T041153
DTSTART:20240131T000000
DTEND:20240201T000000
SUMMARY:KLUB PSÍCH SPORTŮ BŘEZINĚVES NABÍZÍ JARNÍ KURZY POSLUŠNOSTI
DESCRIPTION:Kurz základní poslušnosti
Kurz základní poslušnosti - 5 výcvikových hodin pod vedením zkušené trenérky Moniky Votýpkové.
Výcvik bude probíhat v těchto termínech vždy mezi 9 - 10 hod. v areálu Psích sportů Březiněves
Termíny výcviku: JARO 2024
20.4.2024 - sobota
28.4.2024 - pozor neděle!
4.5.2024 - sobota
25.5.2024 - sobota
1.6.2024 - sobota

Kapacita kurzu je 8 týmů.
Cena kurzu: 2.300 Kč
Zájemci se mohou hlásit na e-mail kps@brezineves.cz 
Více informací naleznete zde: brezineves.cz/klub-psich-sportu-brezineves
LOCATION:
END:VEVENT
END:VCALENDAR
