BEGIN:VCALENDAR
VERSION:2.0
PRODID:-//Brezineves Events//EN
CALSCALE:GREGORIAN
BEGIN:VEVENT
UID:69e74eca28ea6@brezineves.cz
DTSTAMP:20260421T121746
DTSTART:20230908T000000
DTEND:20230909T000000
SUMMARY:ZMĚNY V MOŽNOSTECH ODKLÁDÁNÍ ODPADŮ V PRAZE
DESCRIPTION:
Rádi bychom vás informovali o aktuální situaci zavedení multikomoditního sběru na území hlavního města Prahy a o změnách, které budou v následujícím období realizovány.
 
Domovní stanoviště – u těchto stanoviště byl již v průběhu roku zaveden tzv. multikomoditní sběr (ve variantě 3v1), jedná se o společný sběr komodity kovy, nápojové kartony a plasty do jedné nádoby.


Venkovní stanoviště – u veřejných stanovišť bude v následujících měsících zaveden sběr ve variantě 2v1, také nazýván „multikomoditní sběr“, pouze v jiném složení, a to sice společný sběr pro komoditu plasty a nápojové kartony do jedné nádoby.

LOCATION:
END:VEVENT
END:VCALENDAR
