BEGIN:VCALENDAR
VERSION:2.0
PRODID:-//Brezineves Events//EN
CALSCALE:GREGORIAN
BEGIN:VEVENT
UID:69e83023d12c4@brezineves.cz
DTSTAMP:20260422T041915
DTSTART:20230616T000000
DTEND:20230923T000000
SUMMARY:LETNÍ KINO V BŘEZINĚVSI 
DESCRIPTION:Zveme vás na sérii promítání letního kina v Březiněvsi.
Začínáme filmem TOP GUN MAVERICK 16. 06. 2023 od 21:45 hodin.
Další filmy budeme promítat dle vašeho výběru. Hlasovat můžete do 20. 06. 2023 v záložce Letní kino.
Tři filmy s největším počtem hlasů uvedeme v následujících termínech: 
14.07. 25.08.22.09. 
LOCATION:ABCentrum Březiněves - areál se sídlem Centra zdravotních a sociálních služeb
END:VEVENT
END:VCALENDAR
