BEGIN:VCALENDAR
VERSION:2.0
PRODID:-//Brezineves Events//EN
CALSCALE:GREGORIAN
BEGIN:VEVENT
UID:69ea00d264dc4@brezineves.cz
DTSTAMP:20260423T132154
DTSTART:20230309T000000
DTEND:20230310T000000
SUMMARY:HORNÍ A DOLNÍ LUŽICE - PhDr. Jan Zdichynec
DESCRIPTION:Srdečně Vás zveme do knihovny na historickou přednášku o kulturním a duchovním bohatství kraje Horní a dolní Lužice.
LOCATION:Knihovna MČ Praha Březiněves
END:VEVENT
END:VCALENDAR
