BEGIN:VCALENDAR
VERSION:2.0
PRODID:-//Brezineves Events//EN
CALSCALE:GREGORIAN
BEGIN:VEVENT
UID:69e9ab0ba49cc@brezineves.cz
DTSTAMP:20260423T071555
DTSTART:20221210T000000
DTEND:20221211T000000
SUMMARY:VÁNOČNÍ POSEZENÍ SENIORŮ
DESCRIPTION:Městská část zve všechny březiněveské seniory na společné vánoční posezení, které se bude konat v prostorách Komunitního centra Béčko.
Nebude chybět vánočně laděný program, cukroví a koledy. 
Těšíme se na vás! 
 
LOCATION:Komunitní centrum BÉČKO
END:VEVENT
END:VCALENDAR
