BEGIN:VCALENDAR
VERSION:2.0
PRODID:-//Brezineves Events//EN
CALSCALE:GREGORIAN
BEGIN:VEVENT
UID:69e74e858477b@brezineves.cz
DTSTAMP:20260421T121637
DTSTART:20220903T000000
DTEND:20220904T000000
SUMMARY:BŘEZINĚFEST 2022
DESCRIPTION:Srdečně vás zveme na 5. ročník našeho hudebního festivalu v Březiněvsi. V sobotu 3. 9. 2022 budou pro vás hrát v parku
sv.  Jana Nepomuckého kapely: ČECHOMOR, TH!S (kapela Vojty Kotka), PETRA JANŮ, STO ZVÍŘAT a PŘESKOPEC.
Pro děti bude připravený bohatý doprovodný program, nejen pro dospělé skvělé jídlo a pití. Vstupné na akci je 290 Kč (děti do 15 let a senioři nad 65 let mají vstup zdarma).
Těší se na vás organizátoři akce - Sbor dobrovolných hasičů Březiněves a zástupci MČ Praha - Březiněves. 
LOCATION:Park sv. Jana Nepomuckého
END:VEVENT
END:VCALENDAR
