BEGIN:VCALENDAR
VERSION:2.0
PRODID:-//Brezineves Events//EN
CALSCALE:GREGORIAN
BEGIN:VEVENT
UID:69eb72f5ba6cf@brezineves.cz
DTSTAMP:20260424T154109
DTSTART:20220628T000000
DTEND:20220629T000000
SUMMARY:KLUB SENIORŮ ZAHAJUJE SVOU ČINNOST
DESCRIPTION:Srdečně vás zveme na první setkání příznivců klubu seniorů, které se uskuteční 28. 06. 2022 od 16 hodin v budově Komunitního centra.
V průběhu odpoledne si popovídáme o všem co vás zajímá a hlavně jakou máte představu o náplni klubu seniorů. 
Připravili jsme pro vás malé občerstvení. Vstupenkou do klubu je dovršení 65 let. Své protějšky si samozřejmě můžete vzít s sebou. 
Těšíme se na vás.
LOCATION:Komunitní centrum Březiněves
END:VEVENT
END:VCALENDAR
