BEGIN:VCALENDAR
VERSION:2.0
PRODID:-//Brezineves Events//EN
CALSCALE:GREGORIAN
BEGIN:VEVENT
UID:69e9f970bbeca@brezineves.cz
DTSTAMP:20260423T125024
DTSTART:20210611T000000
DTEND:20210614T000000
SUMMARY:Tenisový maraton - První část oslav 100 let TJ Březiněves
DESCRIPTION:Zveme vás na první část oslav 100. výročí naší TJ. Pod taktovkou tenisového oddílu na vás čeká bohatý program. 11. června proběhne od 17.00 pokus o zápis do evidence Muzea rekordů a ustanovení českého rekordu v nejdelším tenisovém zápase dvouher. Odehrajeme 24hodinový zápas mezi zeleným a žlutým družstvem. Součástí bude také exhibiční utkání vozíčkářů a tenisových celebrit. Představí se také náš oddíl Zumby.SRDEČNĚ ZVEME VŠECHNY TENISTY Z CELÉ BŘEZINĚVSI, ABY K REKORDU PŘILOŽILI RUCE A RAKETY. PŘUHLÁSIT SE MŮŽETE NA TOMTO ODKAZU: https://cutt.ly/5bQpnfi
 
LOCATION:Tenisový areál Březiněves
END:VEVENT
END:VCALENDAR
