BEGIN:VCALENDAR
VERSION:2.0
PRODID:-//Brezineves Events//EN
CALSCALE:GREGORIAN
BEGIN:VEVENT
UID:69e5339da7989@brezineves.cz
DTSTAMP:20260419T215717
DTSTART:20200906T000000
DTEND:20200907T000000
SUMMARY:IV.ročník dechovkového festivalu spojený s posezením seniorů
DESCRIPTION:Srdečně zveme milovníky dechové hudby na IV. ročník dechovkového festivalu spojeného s posezením seniorů.
LOCATION:Restaurace Trattoria Famiglia
END:VEVENT
END:VCALENDAR
