BEGIN:VCALENDAR
VERSION:2.0
PRODID:-//Brezineves Events//EN
CALSCALE:GREGORIAN
BEGIN:VEVENT
UID:69e741c4ee11e@brezineves.cz
DTSTAMP:20260421T112212
DTSTART:20260516T000000
DTEND:20260517T000000
SUMMARY:Májové slavnosti
DESCRIPTION:
LOCATION:
END:VEVENT
END:VCALENDAR
