BEGIN:VCALENDAR
VERSION:2.0
PRODID:-//Brezineves Events//EN
CALSCALE:GREGORIAN
BEGIN:VEVENT
UID:69e4d945de730@brezineves.cz
DTSTAMP:20260419T153149
DTSTART:20260501T000000
DTEND:20260502T000000
SUMMARY:Hledáme pediatra/pediatričku do Centra zdravotních a sociálních služeb
DESCRIPTION:Pediatr / pediatrička – hledáme posilu do našeho týmu
Do moderní a zavedené ordinace PLDD v Praze–Březiněvsi hledáme lékařku / lékaře se specializovanou způsobilostí v oboru pediatrie, PLDD nebo dětského lékařství s nástupem od začátku května 2026.
Ordinace funguje od 12/2023, má přibližně 700 registrovaných dětských pacientů a nabízí klidné, velkorysé prostředí, které umožňuje soustředěnou práci a poskytování kvalitní péče bez zbytečného tlaku a chaosu.
 Co vám u nás ulehčí práci


Klid pro práci: přehledně nastavený provoz, dobře organizované zázemí, moderní a pohodlné prostory


Medevio: digitální objednávání a komunikace s rodiči (méně telefonátů, více času na pacienty)


Moderní vybavení a rychlá diagnostika v ordinaci: QuikRead GO (CRP, Strep A), Cultura M Inkubátor, Laura SMART, MBJ30, Plusoptix


Silná podpora: právní, provozní i administrativní zázemí (včetně komunikace se zdravotními pojišťovnami)


 Nabízíme


Konkurenceschopné ohodnocení dle úvazku a zkušeností (rádi sdělíme osobně)


Flexibilní pracovní dobu a možnost nastavení ordinačních hodin


Podporu vzdělávání: kurzy, kongresy a odborné akce dle domluvy


Výbornou dostupnost: MHD v docházkové vzdálenosti, možnost parkování v areálu


Komfortní lokalitu: Praha–Březiněves nabízí bohaté sportovní a kulturní zázemí, MŠ a plánovanou výstavbu ZŠ; 15 minut od metra C, 20 minut do centra Prahy autem


Možnost budoucího zajištění dostupného bydlení (byt či dům)


 Kontakt
778 008 777 
 dagmar.spirkova@cssbrezineves.cz 
LOCATION:
END:VEVENT
END:VCALENDAR
