BEGIN:VCALENDAR
VERSION:2.0
PRODID:-//Brezineves Events//EN
CALSCALE:GREGORIAN
BEGIN:VEVENT
UID:69e4dd348c62b@brezineves.cz
DTSTAMP:20260419T154836
DTSTART:20260304T000000
DTEND:20260305T000000
SUMMARY:Centrum zdravotních a sociálních služeb hledá pracovníka/pracovnici v sociálních službách
DESCRIPTION:Hledáme člověka. Nejen pracovníka.
Pracovník / pracovnice v sociálních službách – částečný úvazek Centrum zdravotních a sociálních služeb Březiněves
Chcete dělat práci, která má skutečný smysl? Nejen „splnit úkol“, ale být oporou lidem, kteří vás opravdu potřebují?
Do našeho týmu hledáme kolegyni nebo kolegu, který má srdce na správném místě, ale zároveň si umí udržet zdravé hranice. Hledáme člověka, který chce dělat práci, která je lidská i profesionální.
 Co vás u nás čeká


podpora seniorů a osob se sníženou soběstačností v jejich domácím prostředí


pomoc při běžných denních činnostech (péče o sebe, domácnost, doprovody)


komunikace s rodinami klientů


práce v malém, stabilním a podporujícím týmu


práce, u které víte, proč ji děláte


 Koho hledáme


máte kurz pracovníka v sociálních službách (nebo jste ochotni si ho doplnit)


jste empatičtí, spolehliví a jednáte s respektem


dokážete pracovat samostatně


umíte vnímat potřeby druhých, ale neztrácíte sami sebe


výhodou je řidičský průkaz sk. B


 Co nabízíme


částečný úvazek (dle dohody)


stabilní zázemí příspěvkové organizace


přátelskou atmosféru bez zbytečné hierarchie


možnost dalšího vzdělávání


smysluplnou práci v komunitě, která má jméno


odpovídající platové ohodnocení + osobní ohodnocení


 Proč k nám
Nejsme anonymní služba. Jsme součástí komunity. Znají nás klienti, jejich rodiny i sousedé. Děláme věci profesionálně – ale lidsky.
Pokud cítíte, že právě tohle je prostředí pro vás, budeme rádi, když se ozvete.
Životopis a pár vět o sobě pošlete na: dagmar.spirkova@ccsbrezineves.cz
Dotazy: 778 008 777
LOCATION:
END:VEVENT
END:VCALENDAR
