BEGIN:VCALENDAR
VERSION:2.0
PRODID:-//Brezineves Events//EN
CALSCALE:GREGORIAN
BEGIN:VEVENT
UID:69e4d9c9bc79b@brezineves.cz
DTSTAMP:20260419T153401
DTSTART:20251203T000000
DTEND:20251211T000000
SUMMARY:Uzavření úřadu dne 9.12.2025
DESCRIPTION:Vážení občané,
Úřad MČ Praha - Březiněves bude v úterý 09.12.2025 z technických důvodů uzavřen.
Děkujeme za pochopení.
Za vedení úřadu Martina Vilímková, tajemnice.
LOCATION:
END:VEVENT
END:VCALENDAR
