BEGIN:VCALENDAR
VERSION:2.0
PRODID:-//Brezineves Events//EN
CALSCALE:GREGORIAN
BEGIN:VEVENT
UID:69e6dbea09e13@brezineves.cz
DTSTAMP:20260421T040738
DTSTART:20240701T000000
DTEND:20240702T000000
SUMMARY:Zápis ze zasedání zastupitelstva 
DESCRIPTION:Zápis z 22. zasedání Zastupitelstva MČ Praha - Březiněves, ze dne 24.6.2024.  
 
LOCATION:
END:VEVENT
END:VCALENDAR
