BEGIN:VCALENDAR
VERSION:2.0
PRODID:-//Brezineves Events//EN
CALSCALE:GREGORIAN
BEGIN:VEVENT
UID:69e7539ac7345@brezineves.cz
DTSTAMP:20260421T123818
DTSTART:20240408T000000
DTEND:20240409T000000
SUMMARY:ZÁPIS ZE ZASEDÁNÍ ZASTUPITELSTVA
DESCRIPTION:Zápis z 20. zasedání zastupitelstva ze dne 08. 04. 2024
LOCATION:
END:VEVENT
END:VCALENDAR
