BEGIN:VCALENDAR
VERSION:2.0
PRODID:-//Brezineves Events//EN
CALSCALE:GREGORIAN
BEGIN:VEVENT
UID:69eacc94db6ac@brezineves.cz
DTSTAMP:20260424T035116
DTSTART:20231228T000000
DTEND:20231229T000000
SUMMARY:HON V BOŘANOVICKÉM HÁJI
DESCRIPTION:Upozorňujeme, že ve čtvrtek 28. 12. 2023 od 10 do 15 hodin proběhne v Bořanovickém háji myslivecký hon. Dbejte proto zvýšené opatrnosti a ve zmíněných časech se tomuto místu raději vyhněte.
Děkujeme za pochopení
LOCATION:
END:VEVENT
END:VCALENDAR
