BEGIN:VCALENDAR
VERSION:2.0
PRODID:-//Brezineves Events//EN
CALSCALE:GREGORIAN
BEGIN:VEVENT
UID:69e603c258dd0@brezineves.cz
DTSTAMP:20260420T124522
DTSTART:20230617T000000
DTEND:20230618T000000
SUMMARY:ZAHÁJENÍ SEZÓNY REKREAČNÍHO RYBNÍKA
DESCRIPTION:
V sobotu 17. 06. 2023 byla zahájena sezóna rekreačního rybníka.


Letošní změnou je nový nájemce stánku s občerstvením.
Můžete se těšit na tradiční lehké dobroty k vodě.
 Občerstvení bude otevřeno každý den.


Ve sportovním areálu je pro Vás připraven kurt na plážový volejbal, který je po předchozí rezervaci u pokladny v rámci vstupného ZDARMA.


Rekreační areál bude otevřen dle aktuálního počasí.


Informace o otevření či uzavření areálu je znázorněna na HP.


Pro letošní rok nedochází ke změně výše vstupného:


Dospělá osoba: 150,- Kč
Senior 65+: 100,- Kč
Dítě od 6 do 15 let: 100,- Kč
Dítě do 6 let zdarma.


Pro dospělé osoby a děti s trvalým pobytem v MČ Praha-Březiněves bude vstup do sportovně rekreačního areálu, po předložení dokladu, v letní sezóně 2023 ponechán zdarma.


Těšíme se na Vaší návštěvu.

LOCATION:Areál rekreačního rybníka Březiněves
END:VEVENT
END:VCALENDAR
