BEGIN:VCALENDAR
VERSION:2.0
PRODID:-//Brezineves Events//EN
CALSCALE:GREGORIAN
BEGIN:VEVENT
UID:69e526bfc6425@brezineves.cz
DTSTAMP:20260419T210223
DTSTART:20221110T000000
DTEND:20221111T000000
SUMMARY:VÁNOČNÍ POSEZENÍ SENIORŮ
DESCRIPTION:Městská část zve všechny březiněveské seniory na společné vánoční posezení, které se bude konat v prostorách Komunitního centra Béčko.
Nebude chybět vánočně laděný program, cukroví a koledy. 
Těšíme se na vás! 
LOCATION:Komunitní centrum BÉČKO
END:VEVENT
END:VCALENDAR
